 BEGIN:VCALENDAR
VERSION:2.0
PRODID:-//eventon.com NONSGML v1.0//EN
CALSCALE:GREGORIAN
METHOD:PUBLISH
BEGIN:VEVENT
UID:69e75b52ce7d8
DTSTAMP:20260421T111114Z
DTSTART:20260516
DTEND:20260517
LOCATION:Klinker Brick Winery 15887 North Alpine road
SUMMARY:Klinker Brick Winery BBQ Contest 2026
DESCRIPTION:Interested Judges contact Tracy Allen at ladyskir@aol.com Stand
 ardized Judging/Scoring like that of larger Sanctioned Competitions\nhttps:
 //www.cbbqa.com/events/klinker-brick-winery-bbq-contest-2026/
URL:https://www.cbbqa.com/events/klinker-brick-winery-bbq-contest-2026/
END:VEVENT
END:VCALENDAR