 BEGIN:VCALENDAR
VERSION:2.0
PRODID:-//eventon.com NONSGML v1.0//EN
CALSCALE:GREGORIAN
METHOD:PUBLISH
BEGIN:VEVENT
UID:69e98e65482c9
DTSTAMP:20260423T031341Z
DTSTART:20250525
DTEND:20250526
LOCATION:Fresno California Fairgrounds 1121 S. Chance Ave
SUMMARY:Red White & Blue Memorial Day BBQ Cookoff
DESCRIPTION:\nhttps://www.cbbqa.com/events/red-white-blue-memorial-day-bbq-
 cookoff/
URL:https://www.cbbqa.com/events/red-white-blue-memorial-day-bbq-cookoff/
END:VEVENT
END:VCALENDAR