 BEGIN:VCALENDAR
VERSION:2.0
PRODID:-//eventon.com NONSGML v1.0//EN
CALSCALE:GREGORIAN
METHOD:PUBLISH
BEGIN:VEVENT
UID:69eaa184ee006
DTSTAMP:20260423T224732Z
DTSTART:20250809
DTEND:20250810
LOCATION:Roaring Camp 5401 Graham Hill Road
SUMMARY:3rd Annual Roaring Camp Cook-Off DOUBLE Day 1
DESCRIPTION:\nhttps://www.cbbqa.com/events/3rd-annual-roaring-camp-bbq-cook
 -off/
URL:https://www.cbbqa.com/events/3rd-annual-roaring-camp-bbq-cook-off/
END:VEVENT
END:VCALENDAR