 BEGIN:VCALENDAR
VERSION:2.0
PRODID:-//eventon.com NONSGML v1.0//EN
CALSCALE:GREGORIAN
METHOD:PUBLISH
BEGIN:VEVENT
UID:69ed4d3cc6b03
DTSTAMP:20260425T232444Z
DTSTART:20250329
DTEND:20250330
LOCATION:Mohave Community College\,  Lake Havasu City Campus 1977 W. Acoma Blvd
SUMMARY:Q's & Brews Bighorn BBQ Competition
DESCRIPTION:\nhttps://www.cbbqa.com/events/qs-brews/
URL:https://www.cbbqa.com/events/qs-brews/
END:VEVENT
END:VCALENDAR