 BEGIN:VCALENDAR
VERSION:2.0
PRODID:-//eventon.com NONSGML v1.0//EN
CALSCALE:GREGORIAN
METHOD:PUBLISH
BEGIN:VEVENT
UID:69eb6400e2bae
DTSTAMP:20260424T123720Z
DTSTART:20230528
DTEND:20230529
LOCATION:Roaring Camp 5401 Graham Hill Road
SUMMARY:Roaring Camp BBQ Cook-Off Sunday
DESCRIPTION:\nhttps://www.cbbqa.com/events/roaring-camp-bbq-cook-off-sunday
 /
URL:https://www.cbbqa.com/events/roaring-camp-bbq-cook-off-sunday/
END:VEVENT
END:VCALENDAR