 BEGIN:VCALENDAR
VERSION:2.0
PRODID:-//eventon.com NONSGML v1.0//EN
CALSCALE:GREGORIAN
METHOD:PUBLISH
BEGIN:VEVENT
UID:69ecf518c209f
DTSTAMP:20260425T170840Z
DTSTART:20230805
DTEND:20230806
LOCATION:Rose Ann Vuich Park 855 E. El Monte Way
SUMMARY:Dinuba's Annual BBQ & Brew Fest
DESCRIPTION:\nhttps://www.cbbqa.com/events/dinubas-annual-bbq-brew-fest/
URL:https://www.cbbqa.com/events/dinubas-annual-bbq-brew-fest/
END:VEVENT
END:VCALENDAR