 BEGIN:VCALENDAR
VERSION:2.0
PRODID:-//eventon.com NONSGML v1.0//EN
CALSCALE:GREGORIAN
METHOD:PUBLISH
BEGIN:VEVENT
UID:69e5d700097b5
DTSTAMP:20260420T073424Z
DTSTART:20220422
DTEND:20220423
LOCATION:Washington State Fair 110 9th Ave SW
SUMMARY:Washington State Spring Fair BBQ Playoffs
DESCRIPTION:Washington State Spring Fair BBQ Playoffs\nhttps://www.cbbqa.co
 m/events/washington-state-spring-fair-bbq-playoffs/
URL:https://www.cbbqa.com/events/washington-state-spring-fair-bbq-playoffs/
END:VEVENT
END:VCALENDAR