 BEGIN:VCALENDAR
VERSION:2.0
PRODID:-//eventon.com NONSGML v1.0//EN
CALSCALE:GREGORIAN
METHOD:PUBLISH
BEGIN:VEVENT
UID:69e8973b9ed41
DTSTAMP:20260422T093907Z
DTSTART:20220924
DTEND:20220925
LOCATION:Pacific Flyway Supplies 1690 N Lincoln St
SUMMARY:Solano Steak Out Cookoff DOUBLE ToY
DESCRIPTION:Solano Steak Out Cookoff DOUBLE ToY\nhttps://www.cbbqa.com/even
 ts/pacific-flyways-steak-cookoff-double/
URL:https://www.cbbqa.com/events/pacific-flyways-steak-cookoff-double/
END:VEVENT
END:VCALENDAR