 BEGIN:VCALENDAR
VERSION:2.0
PRODID:-//eventon.com NONSGML v1.0//EN
CALSCALE:GREGORIAN
METHOD:PUBLISH
BEGIN:VEVENT
UID:69e9af6db9a07
DTSTAMP:20260423T053437Z
DTSTART:20220813
DTEND:20220814
LOCATION:Tuolumne River Lodge 2429 River Road
SUMMARY:Bands\,  Brews & BBQ Cookoff
DESCRIPTION:Bands\,  Brews & BBQ Cookoff\nhttps://www.cbbqa.com/events/band
 s-brews-bbq-cookoff/
URL:https://www.cbbqa.com/events/bands-brews-bbq-cookoff/
END:VEVENT
END:VCALENDAR