 BEGIN:VCALENDAR
VERSION:2.0
PRODID:-//eventon.com NONSGML v1.0//EN
CALSCALE:GREGORIAN
METHOD:PUBLISH
BEGIN:VEVENT
UID:69e7370e1146e
DTSTAMP:20260421T083630Z
DTSTART:20220603
DTEND:20220604
LOCATION:
SUMMARY:3rd Annual Ironstone Throwdown In the Vineyards
DESCRIPTION:3rd Annual Ironstone Throwdown In the Vineyards\nhttps://www.cb
 bqa.com/events/3rd-annual-ironstone-throwdown-in-the-vineyards/
URL:https://www.cbbqa.com/events/3rd-annual-ironstone-throwdown-in-the-vineyards/
END:VEVENT
END:VCALENDAR